BEGIN:VCALENDAR
VERSION:2.0
PRODID:-//www.arcnbc.org//NONSGML kigkonsult.se iCalcreator 2.30.10//
CALSCALE:GREGORIAN
METHOD:PUBLISH
UID:4afe10cb-26d9-4e1b-a575-2abdb61ce044
X-WR-CALDESC:Please see Rec Connect calendars
X-WR-RELCALID:7bbf70787e0e3ca3d9b0c7d05ed295f9
X-WR-TIMEZONE:America/New_York
BEGIN:VTIMEZONE
TZID:America/New_York
BEGIN:STANDARD
TZNAME:EST
DTSTART:20181104T020000
TZOFFSETFROM:-0400
TZOFFSETTO:-0500
RDATE:20191103T020000
RDATE:20201101T020000
END:STANDARD
BEGIN:DAYLIGHT
TZNAME:EDT
DTSTART:20190310T020000
TZOFFSETFROM:-0500
TZOFFSETTO:-0400
RDATE:20200308T020000
RDATE:20210314T020000
END:DAYLIGHT
END:VTIMEZONE
BEGIN:VEVENT
UID:e005c69b-978c-456f-8489-bae4cd797ddd
DTSTAMP:20260423T120539Z
DESCRIPTION:Please see Rec Connect calendars
DTSTART;TZID=America/New_York:20191020T133000
DTEND;TZID=America/New_York:20191020T193000
LOCATION:The Stadium Theater Woonsocket\, RI
SUMMARY:Chicago the Musical & Dinner
END:VEVENT
END:VCALENDAR
