BEGIN:VCALENDAR
VERSION:2.0
PRODID:-//www.arcnbc.org//NONSGML kigkonsult.se iCalcreator 2.30.10//
CALSCALE:GREGORIAN
METHOD:PUBLISH
UID:40f3a99f-b40a-4369-8379-d07c81a03dd6
X-WR-CALDESC:Please see Rec Connect Calendar for description. Thank you :)
X-WR-RELCALID:2db05779256903598c6dc64b41fb492a
X-WR-TIMEZONE:America/New_York
BEGIN:VTIMEZONE
TZID:America/New_York
BEGIN:STANDARD
TZNAME:EST
DTSTART:20181104T020000
TZOFFSETFROM:-0400
TZOFFSETTO:-0500
RDATE:20191103T020000
RDATE:20201101T020000
END:STANDARD
BEGIN:DAYLIGHT
TZNAME:EDT
DTSTART:20190310T020000
TZOFFSETFROM:-0500
TZOFFSETTO:-0400
RDATE:20200308T020000
RDATE:20210314T020000
END:DAYLIGHT
END:VTIMEZONE
BEGIN:VEVENT
UID:a269bcf1-8095-485b-9b2a-cc3a49d093fc
DTSTAMP:20260423T120632Z
DESCRIPTION:Please see Rec Connect Calendar for description. Thank you :)
DTSTART;TZID=America/New_York:20191026T160000
DTEND;TZID=America/New_York:20191026T220000
LOCATION:Attleboro Moose Lodge
SUMMARY:Showcase Local Wrestling & Dinner
END:VEVENT
END:VCALENDAR
