BEGIN:VCALENDAR
VERSION:2.0
PRODID:-//www.arcnbc.org//NONSGML kigkonsult.se iCalcreator 2.30.10//
CALSCALE:GREGORIAN
METHOD:PUBLISH
UID:39b6088c-11cd-4fde-84ee-2c0816a59571
X-WR-CALDESC:This will be a Providence Bruins Hockey game\, supporting Brea
 st Cancer Awareness.  Please wear your pink!!
X-WR-RELCALID:ae5f309c77c6a4d98302757241366d1f
X-WR-TIMEZONE:America/New_York
BEGIN:VTIMEZONE
TZID:America/New_York
BEGIN:STANDARD
TZNAME:EST
DTSTART:20181104T020000
TZOFFSETFROM:-0400
TZOFFSETTO:-0500
RDATE:20191103T020000
RDATE:20201101T020000
END:STANDARD
BEGIN:DAYLIGHT
TZNAME:EDT
DTSTART:20190310T020000
TZOFFSETFROM:-0500
TZOFFSETTO:-0400
RDATE:20200308T020000
RDATE:20210314T020000
END:DAYLIGHT
END:VTIMEZONE
BEGIN:VEVENT
UID:798c5c0b-4df9-49dc-92c7-eaf3a292cb42
DTSTAMP:20260423T121149Z
DESCRIPTION:This will be a Providence Bruins Hockey game\, supporting Breas
 t Cancer Awareness.  Please wear your pink!!
DTSTART;TZID=America/New_York:20191027T143000
DTEND;TZID=America/New_York:20191027T183000
LOCATION:The Dunkin Donuts Center Providence\, RI
SUMMARY:Providence Bruins Pink In the Rink
END:VEVENT
END:VCALENDAR
