BEGIN:VCALENDAR
VERSION:2.0
PRODID:-//www.arcnbc.org//NONSGML kigkonsult.se iCalcreator 2.30.10//
CALSCALE:GREGORIAN
METHOD:PUBLISH
UID:915e7330-5dc3-48e1-aab3-79506d52460f
X-WR-CALDESC:
X-WR-RELCALID:b6091cc2476b3f89bd30d436d01a9f97
X-WR-TIMEZONE:America/New_York
BEGIN:VTIMEZONE
TZID:America/New_York
BEGIN:STANDARD
TZNAME:EST
DTSTART:20181104T020000
TZOFFSETFROM:-0400
TZOFFSETTO:-0500
RDATE:20191103T020000
RDATE:20201101T020000
END:STANDARD
BEGIN:DAYLIGHT
TZNAME:EDT
DTSTART:20190310T020000
TZOFFSETFROM:-0500
TZOFFSETTO:-0400
RDATE:20200308T020000
RDATE:20210314T020000
END:DAYLIGHT
END:VTIMEZONE
BEGIN:VEVENT
UID:247ddfdb-b17e-46b6-be38-e03291016ed2
DTSTAMP:20260423T115920Z
DESCRIPTION:
DTSTART;TZID=America/New_York:20191030T090000
DTEND;TZID=America/New_York:20191030T150000
LOCATION:412 B County Street\, New Bedford\, MA
SUMMARY:First Aid/CPR
END:VEVENT
END:VCALENDAR
