BEGIN:VCALENDAR
VERSION:2.0
PRODID:-//www.arcnbc.org//NONSGML kigkonsult.se iCalcreator 2.30.10//
CALSCALE:GREGORIAN
METHOD:PUBLISH
UID:d0020c31-0a42-48a6-b679-c3e22acbe9fe
X-WR-CALDESC:Join us for dancing\, singing\, and partying.  Light snacks an
 d refreshments will be provided.  You can pay $3.00 at the door.  Please R
 SVP to Danielle Martin dmartin@arcnbc.org or (401)23301634 ext 3660 by Fri
 day October 25th..\nThank you.
X-WR-RELCALID:fe8d9805295d6285cff795c4184af959
X-WR-TIMEZONE:America/New_York
BEGIN:VTIMEZONE
TZID:America/New_York
BEGIN:STANDARD
TZNAME:EST
DTSTART:20181104T020000
TZOFFSETFROM:-0400
TZOFFSETTO:-0500
RDATE:20191103T020000
RDATE:20201101T020000
END:STANDARD
BEGIN:DAYLIGHT
TZNAME:EDT
DTSTART:20190310T020000
TZOFFSETFROM:-0500
TZOFFSETTO:-0400
RDATE:20200308T020000
RDATE:20210314T020000
END:DAYLIGHT
END:VTIMEZONE
BEGIN:VEVENT
UID:120b0768-93d2-4071-84bc-baba6a20bc3f
DTSTAMP:20260423T120111Z
DESCRIPTION:Join us for dancing\, singing\, and partying.  Light snacks and
  refreshments will be provided.  You can pay $3.00 at the door.  Please RS
 VP to Danielle Martin dmartin@arcnbc.org or (401)23301634 ext 3660 by Frid
 ay October 25th..\nThank you.
DTSTART;TZID=America/New_York:20191030T180000
DTEND;TZID=America/New_York:20191030T200000
LOCATION:141 Park St. Attleboro
SUMMARY:Halloween Party
END:VEVENT
END:VCALENDAR
