BEGIN:VCALENDAR
VERSION:2.0
PRODID:-//www.arcnbc.org//NONSGML kigkonsult.se iCalcreator 2.30.10//
CALSCALE:GREGORIAN
METHOD:PUBLISH
UID:45358619-af4b-462d-9b30-075417c3c5c2
X-WR-CALDESC:A night of dancing with friends.
X-WR-RELCALID:b4fcf8fcc2cbff247f098d1aea9fb087
X-WR-TIMEZONE:America/New_York
BEGIN:VTIMEZONE
TZID:America/New_York
BEGIN:STANDARD
TZNAME:EST
DTSTART:20181104T020000
TZOFFSETFROM:-0400
TZOFFSETTO:-0500
RDATE:20191103T020000
RDATE:20201101T020000
END:STANDARD
BEGIN:DAYLIGHT
TZNAME:EDT
DTSTART:20190310T020000
TZOFFSETFROM:-0500
TZOFFSETTO:-0400
RDATE:20200308T020000
RDATE:20210314T020000
END:DAYLIGHT
END:VTIMEZONE
BEGIN:VEVENT
UID:e9948074-c1d2-44e2-a775-c31075663bd4
DTSTAMP:20260423T120928Z
DESCRIPTION:A night of dancing with friends.
DTSTART;TZID=America/New_York:20191031T143000
DTEND;TZID=America/New_York:20191031T153000
LOCATION:Taunton Portuguese/American club
SUMMARY:Fran's Dance
END:VEVENT
END:VCALENDAR
