BEGIN:VCALENDAR
VERSION:2.0
PRODID:-//www.arcnbc.org//NONSGML kigkonsult.se iCalcreator 2.30.10//
CALSCALE:GREGORIAN
METHOD:PUBLISH
UID:81d42bf8-2a4d-48d9-839f-fafe6bc57a7a
X-WR-CALDESC:Girls Volleyball game and lunch
X-WR-RELCALID:519b4391af3b7ab579844ef506917052
X-WR-TIMEZONE:America/New_York
BEGIN:VTIMEZONE
TZID:America/New_York
BEGIN:STANDARD
TZNAME:EST
DTSTART:20181104T020000
TZOFFSETFROM:-0400
TZOFFSETTO:-0500
RDATE:20191103T020000
RDATE:20201101T020000
END:STANDARD
BEGIN:DAYLIGHT
TZNAME:EDT
DTSTART:20190310T020000
TZOFFSETFROM:-0500
TZOFFSETTO:-0400
RDATE:20200308T020000
RDATE:20210314T020000
END:DAYLIGHT
END:VTIMEZONE
BEGIN:VEVENT
UID:dd2bde36-5f8b-4083-a92a-805b85cf5577
DTSTAMP:20260423T121148Z
DESCRIPTION:Girls Volleyball game and lunch
DTSTART;TZID=America/New_York:20191102T113000
DTEND;TZID=America/New_York:20191102T160000
LOCATION:Wheaton College
SUMMARY:Wheaton College Vs Bears Girls Volleyball
END:VEVENT
END:VCALENDAR
