BEGIN:VCALENDAR
VERSION:2.0
PRODID:-//www.arcnbc.org//NONSGML kigkonsult.se iCalcreator 2.30.10//
CALSCALE:GREGORIAN
METHOD:PUBLISH
UID:2c18966b-5ed8-4e97-97dd-16a15e21fc4a
X-WR-CALDESC:
X-WR-RELCALID:23e791eb53a436227da59fb639e8d39f
X-WR-TIMEZONE:America/New_York
BEGIN:VTIMEZONE
TZID:America/New_York
BEGIN:STANDARD
TZNAME:EST
DTSTART:20181104T020000
TZOFFSETFROM:-0400
TZOFFSETTO:-0500
RDATE:20191103T020000
RDATE:20201101T020000
END:STANDARD
BEGIN:DAYLIGHT
TZNAME:EDT
DTSTART:20190310T020000
TZOFFSETFROM:-0500
TZOFFSETTO:-0400
RDATE:20200308T020000
RDATE:20210314T020000
END:DAYLIGHT
END:VTIMEZONE
BEGIN:VEVENT
UID:3a20aabe-1b51-4b5a-a57b-e6f8cfbf7eae
DTSTAMP:20260423T120447Z
DESCRIPTION:
DTSTART;TZID=America/New_York:20191104T183000
DTEND;TZID=America/New_York:20191104T193000
LOCATION:Lincoln\, RI
SUMMARY:K1 Indoor Go Carts
END:VEVENT
END:VCALENDAR
