BEGIN:VCALENDAR
VERSION:2.0
PRODID:-//www.arcnbc.org//NONSGML kigkonsult.se iCalcreator 2.30.10//
CALSCALE:GREGORIAN
METHOD:PUBLISH
UID:85da8fbf-d702-4be7-991b-60abe9a12f03
X-WR-CALDESC:
X-WR-RELCALID:ec7a4b86f2490207b6bb16282d9dae2b
X-WR-TIMEZONE:America/New_York
BEGIN:VTIMEZONE
TZID:America/New_York
BEGIN:STANDARD
TZNAME:EST
DTSTART:20191103T020000
TZOFFSETFROM:-0400
TZOFFSETTO:-0500
RDATE:20201101T020000
END:STANDARD
BEGIN:DAYLIGHT
TZNAME:EDT
DTSTART:20190310T020000
TZOFFSETFROM:-0500
TZOFFSETTO:-0400
RDATE:20200308T020000
RDATE:20210314T020000
END:DAYLIGHT
END:VTIMEZONE
BEGIN:VEVENT
UID:5bf4e0b6-642e-43ce-9117-efb0789c8be2
DTSTAMP:20260423T135559Z
DESCRIPTION:
DTSTART;TZID=America/New_York:20191105T090000
DTEND;TZID=America/New_York:20191105T150000
LOCATION:16 Hillside Avenue\, Attleboro\, MA
SUMMARY:Safety Care Day Two
END:VEVENT
END:VCALENDAR
