BEGIN:VCALENDAR
VERSION:2.0
PRODID:-//www.arcnbc.org//NONSGML kigkonsult.se iCalcreator 2.30.10//
CALSCALE:GREGORIAN
METHOD:PUBLISH
UID:d84c2ed9-e114-4e0e-a86e-a004795f120b
X-WR-CALDESC:
X-WR-RELCALID:f74a3cccd39547c6dcdd3ab316af93a8
X-WR-TIMEZONE:America/New_York
BEGIN:VTIMEZONE
TZID:America/New_York
BEGIN:STANDARD
TZNAME:EST
DTSTART:20191103T020000
TZOFFSETFROM:-0400
TZOFFSETTO:-0500
RDATE:20201101T020000
END:STANDARD
BEGIN:DAYLIGHT
TZNAME:EDT
DTSTART:20190310T020000
TZOFFSETFROM:-0500
TZOFFSETTO:-0400
RDATE:20200308T020000
RDATE:20210314T020000
END:DAYLIGHT
END:VTIMEZONE
BEGIN:VEVENT
UID:89f48809-aa76-47c2-84c0-2d6b52db27a8
DTSTAMP:20260423T120914Z
DESCRIPTION:
DTSTART;TZID=America/New_York:20191107T173000
DTEND;TZID=America/New_York:20191107T183000
LOCATION:16 Hillside Ave. Attleboro\, Ma
SUMMARY:Meeting with Local State Reps
END:VEVENT
END:VCALENDAR
