BEGIN:VCALENDAR
VERSION:2.0
PRODID:-//www.arcnbc.org//NONSGML kigkonsult.se iCalcreator 2.30.10//
CALSCALE:GREGORIAN
METHOD:PUBLISH
UID:23970e12-4dd3-4706-9631-9f58163c37db
X-WR-CALDESC:Please see Rec Connect Calendar for description.\nThank you.
X-WR-RELCALID:1d05e81c3d46810f60b192ebe298e9e8
X-WR-TIMEZONE:America/New_York
BEGIN:VTIMEZONE
TZID:America/New_York
BEGIN:STANDARD
TZNAME:EST
DTSTART:20191103T020000
TZOFFSETFROM:-0400
TZOFFSETTO:-0500
RDATE:20201101T020000
END:STANDARD
BEGIN:DAYLIGHT
TZNAME:EDT
DTSTART:20190310T020000
TZOFFSETFROM:-0500
TZOFFSETTO:-0400
RDATE:20200308T020000
RDATE:20210314T020000
END:DAYLIGHT
END:VTIMEZONE
BEGIN:VEVENT
UID:43b1dad0-612c-482c-8e5f-a70c55a025ac
DTSTAMP:20260423T120111Z
DESCRIPTION:Please see Rec Connect Calendar for description.\nThank you.
DTSTART;TZID=America/New_York:20191108T163000
DTEND;TZID=America/New_York:20191108T230000
LOCATION:The Stadium Theater Woonsocket\, RI
SUMMARY:Postmodern Jukebox and Dinner
END:VEVENT
END:VCALENDAR
