BEGIN:VCALENDAR
VERSION:2.0
PRODID:-//www.arcnbc.org//NONSGML kigkonsult.se iCalcreator 2.30.10//
CALSCALE:GREGORIAN
METHOD:PUBLISH
UID:1e90808f-fecb-404f-b6d5-843552864c72
X-WR-CALDESC:
X-WR-RELCALID:ccf6a8d75f37f62e46a2a5a68b3a52d9
X-WR-TIMEZONE:America/New_York
BEGIN:VTIMEZONE
TZID:America/New_York
BEGIN:STANDARD
TZNAME:EST
DTSTART:20191103T020000
TZOFFSETFROM:-0400
TZOFFSETTO:-0500
RDATE:20201101T020000
END:STANDARD
BEGIN:DAYLIGHT
TZNAME:EDT
DTSTART:20190310T020000
TZOFFSETFROM:-0500
TZOFFSETTO:-0400
RDATE:20200308T020000
RDATE:20210314T020000
END:DAYLIGHT
END:VTIMEZONE
BEGIN:VEVENT
UID:0db3d0a8-988c-4afe-8287-7bb443aa470e
DTSTAMP:20260423T120401Z
DESCRIPTION:
DTSTART;TZID=America/New_York:20191114T150000
DTEND;TZID=America/New_York:20191114T173000
LOCATION:141 Park St. Attleboro\, Ma
SUMMARY:Self Advocacy
END:VEVENT
END:VCALENDAR
