BEGIN:VCALENDAR
VERSION:2.0
PRODID:-//www.arcnbc.org//NONSGML kigkonsult.se iCalcreator 2.30.10//
CALSCALE:GREGORIAN
METHOD:PUBLISH
UID:4225972c-f414-4cc2-8ec5-1ef14c814ae1
X-WR-CALDESC:This is an event for Rec Connect and Arc members.  It starts w
 ith an hour of swimming\, then dinner at 8:00 pm\, followed by another act
 ivity.  The second activity is either physical or Art based.  Transportati
 on is required to and from the YMCA.
X-WR-RELCALID:f01ccf01061243e218215ed7d9c93397
X-WR-TIMEZONE:America/New_York
BEGIN:VTIMEZONE
TZID:America/New_York
BEGIN:STANDARD
TZNAME:EST
DTSTART:20191103T020000
TZOFFSETFROM:-0400
TZOFFSETTO:-0500
RDATE:20201101T020000
END:STANDARD
BEGIN:DAYLIGHT
TZNAME:EDT
DTSTART:20190310T020000
TZOFFSETFROM:-0500
TZOFFSETTO:-0400
RDATE:20200308T020000
RDATE:20210314T020000
END:DAYLIGHT
END:VTIMEZONE
BEGIN:VEVENT
UID:0dd1d794-91d4-4ef6-b141-dbcbd651de4b
DTSTAMP:20260423T120913Z
DESCRIPTION:This is an event for Rec Connect and Arc members.  It starts wi
 th an hour of swimming\, then dinner at 8:00 pm\, followed by another acti
 vity.  The second activity is either physical or Art based.  Transportatio
 n is required to and from the YMCA.
DTSTART;TZID=America/New_York:20191115T190000
DTEND;TZID=America/New_York:20191115T210000
LOCATION:Pleasant St. YMCA
SUMMARY:Go Night
END:VEVENT
END:VCALENDAR
