BEGIN:VCALENDAR
VERSION:2.0
PRODID:-//www.arcnbc.org//NONSGML kigkonsult.se iCalcreator 2.30.10//
CALSCALE:GREGORIAN
METHOD:PUBLISH
UID:fe568e7d-d424-422a-9bbb-144bc7e031eb
X-WR-CALDESC:
X-WR-RELCALID:dba4ddbb7d3cc605eb2e55739ee22453
X-WR-TIMEZONE:America/New_York
BEGIN:VTIMEZONE
TZID:America/New_York
BEGIN:STANDARD
TZNAME:EST
DTSTART:20191103T020000
TZOFFSETFROM:-0400
TZOFFSETTO:-0500
RDATE:20201101T020000
END:STANDARD
BEGIN:DAYLIGHT
TZNAME:EDT
DTSTART:20190310T020000
TZOFFSETFROM:-0500
TZOFFSETTO:-0400
RDATE:20200308T020000
RDATE:20210314T020000
END:DAYLIGHT
END:VTIMEZONE
BEGIN:VEVENT
UID:f5d6c993-120b-426e-81ab-62b7ffcc7ed1
DTSTAMP:20260423T121048Z
DESCRIPTION:
DTSTART;TZID=America/New_York:20191116T130000
DTEND;TZID=America/New_York:20191116T170000
LOCATION:The Dunkin Donuts Center Providence\, RI
SUMMARY:PC Friars Basketball & Lunch
END:VEVENT
END:VCALENDAR
