BEGIN:VCALENDAR
VERSION:2.0
PRODID:-//www.arcnbc.org//NONSGML kigkonsult.se iCalcreator 2.30.10//
CALSCALE:GREGORIAN
METHOD:PUBLISH
UID:d0334c47-82b8-4754-a597-7cf845a60c8b
X-WR-CALDESC:
X-WR-RELCALID:157dfa978ad36649d1d5d33acfb3802a
X-WR-TIMEZONE:America/New_York
BEGIN:VTIMEZONE
TZID:America/New_York
BEGIN:STANDARD
TZNAME:EST
DTSTART:20191103T020000
TZOFFSETFROM:-0400
TZOFFSETTO:-0500
RDATE:20201101T020000
END:STANDARD
BEGIN:DAYLIGHT
TZNAME:EDT
DTSTART:20190310T020000
TZOFFSETFROM:-0500
TZOFFSETTO:-0400
RDATE:20200308T020000
RDATE:20210314T020000
END:DAYLIGHT
END:VTIMEZONE
BEGIN:VEVENT
UID:ff595361-6abc-4839-954a-e2692285cfbf
DTSTAMP:20260423T121150Z
DESCRIPTION:
DTSTART;TZID=America/New_York:20191118T163000
DTEND;TZID=America/New_York:20191118T213000
LOCATION:North Attleboro Showcase
SUMMARY:Pizza and the Movies
END:VEVENT
END:VCALENDAR
