BEGIN:VCALENDAR
VERSION:2.0
PRODID:-//www.arcnbc.org//NONSGML kigkonsult.se iCalcreator 2.30.10//
CALSCALE:GREGORIAN
METHOD:PUBLISH
UID:6cb11a7e-a958-44fa-8d2e-8998ed2b84ec
X-WR-CALDESC:
X-WR-RELCALID:bd6220303fd886a06516ececfc75e475
X-WR-TIMEZONE:America/New_York
BEGIN:VTIMEZONE
TZID:America/New_York
BEGIN:STANDARD
TZNAME:EST
DTSTART:20191103T020000
TZOFFSETFROM:-0400
TZOFFSETTO:-0500
RDATE:20201101T020000
END:STANDARD
BEGIN:DAYLIGHT
TZNAME:EDT
DTSTART:20190310T020000
TZOFFSETFROM:-0500
TZOFFSETTO:-0400
RDATE:20200308T020000
RDATE:20210314T020000
END:DAYLIGHT
END:VTIMEZONE
BEGIN:VEVENT
UID:53649ea4-444d-472b-8696-46eb8fed71a9
DTSTAMP:20260423T120238Z
DESCRIPTION:
DTSTART;TZID=America/New_York:20191123T113000
DTEND;TZID=America/New_York:20191123T160000
LOCATION:Narragansett\, RI
SUMMARY:Brunch and corn maze
END:VEVENT
END:VCALENDAR
