BEGIN:VCALENDAR
VERSION:2.0
PRODID:-//www.arcnbc.org//NONSGML kigkonsult.se iCalcreator 2.30.10//
CALSCALE:GREGORIAN
METHOD:PUBLISH
UID:7eca849d-1b7a-4116-a3d5-213e53ab98ec
X-WR-CALDESC:
X-WR-RELCALID:237b6ab98dc2c013548d38a3a4374c50
X-WR-TIMEZONE:America/New_York
BEGIN:VTIMEZONE
TZID:America/New_York
BEGIN:STANDARD
TZNAME:EST
DTSTART:20191103T020000
TZOFFSETFROM:-0400
TZOFFSETTO:-0500
RDATE:20201101T020000
END:STANDARD
BEGIN:DAYLIGHT
TZNAME:EDT
DTSTART:20190310T020000
TZOFFSETFROM:-0500
TZOFFSETTO:-0400
RDATE:20200308T020000
RDATE:20210314T020000
END:DAYLIGHT
END:VTIMEZONE
BEGIN:VEVENT
UID:05d802cc-8dae-4cf2-ab80-e9278c91043b
DTSTAMP:20260423T120633Z
DESCRIPTION:
DTSTART;TZID=America/New_York:20191124T140000
DTEND;TZID=America/New_York:20191124T193000
LOCATION:The Dunkin Donuts Center Providence\, RI
SUMMARY:P-Bruins and lunch
END:VEVENT
END:VCALENDAR
