BEGIN:VCALENDAR
VERSION:2.0
PRODID:-//www.arcnbc.org//NONSGML kigkonsult.se iCalcreator 2.30.10//
CALSCALE:GREGORIAN
METHOD:PUBLISH
UID:58427269-6a2c-4832-8bf8-2533a05b3dc9
X-WR-CALDESC:
X-WR-RELCALID:3f88ba51f407e9e27e1ad79c138daa87
X-WR-TIMEZONE:America/New_York
BEGIN:VTIMEZONE
TZID:America/New_York
BEGIN:STANDARD
TZNAME:EST
DTSTART:20191103T020000
TZOFFSETFROM:-0400
TZOFFSETTO:-0500
RDATE:20201101T020000
END:STANDARD
BEGIN:DAYLIGHT
TZNAME:EDT
DTSTART:20190310T020000
TZOFFSETFROM:-0500
TZOFFSETTO:-0400
RDATE:20200308T020000
RDATE:20210314T020000
END:DAYLIGHT
END:VTIMEZONE
BEGIN:VEVENT
UID:3eb483c9-51ae-42aa-ab42-8abed56c2941
DTSTAMP:20260423T120253Z
DESCRIPTION:
DTSTART;TZID=America/New_York:20191126T180000
DTEND;TZID=America/New_York:20191126T200000
LOCATION:East Providence Lanes
SUMMARY:Bowling
END:VEVENT
END:VCALENDAR
