BEGIN:VCALENDAR
VERSION:2.0
PRODID:-//www.arcnbc.org//NONSGML kigkonsult.se iCalcreator 2.30.10//
CALSCALE:GREGORIAN
METHOD:PUBLISH
UID:6f54050d-be82-4edc-8e64-5bec3f882fa9
X-WR-CALDESC:A night of dancing with friends.
X-WR-RELCALID:d795859a837a3dd88b8722d4eb9eb5e2
X-WR-TIMEZONE:America/New_York
BEGIN:VTIMEZONE
TZID:America/New_York
BEGIN:STANDARD
TZNAME:EST
DTSTART:20191103T020000
TZOFFSETFROM:-0400
TZOFFSETTO:-0500
RDATE:20201101T020000
END:STANDARD
BEGIN:DAYLIGHT
TZNAME:EDT
DTSTART:20190310T020000
TZOFFSETFROM:-0500
TZOFFSETTO:-0400
RDATE:20200308T020000
RDATE:20210314T020000
END:DAYLIGHT
END:VTIMEZONE
BEGIN:VEVENT
UID:86e0be9a-9cf5-467a-96ec-d07ac3b52eb5
DTSTAMP:20260423T120914Z
DESCRIPTION:A night of dancing with friends.
DTSTART;TZID=America/New_York:20191128T190000
DTEND;TZID=America/New_York:20191128T210000
LOCATION:Taunton Portuguese/American club
SUMMARY:Fran's Dance
END:VEVENT
END:VCALENDAR
