BEGIN:VCALENDAR
VERSION:2.0
PRODID:-//www.arcnbc.org//NONSGML kigkonsult.se iCalcreator 2.30.10//
CALSCALE:GREGORIAN
METHOD:PUBLISH
UID:5ba541bd-7e01-4ce0-a482-b891835d3122
X-WR-CALDESC:Please see Rec Connect Calendars for description. Thank you.
X-WR-RELCALID:51a33b15204ead7327deca55e43090b6
X-WR-TIMEZONE:America/New_York
BEGIN:VTIMEZONE
TZID:America/New_York
BEGIN:STANDARD
TZNAME:EST
DTSTART:20191103T020000
TZOFFSETFROM:-0400
TZOFFSETTO:-0500
RDATE:20201101T020000
END:STANDARD
BEGIN:DAYLIGHT
TZNAME:EDT
DTSTART:20190310T020000
TZOFFSETFROM:-0500
TZOFFSETTO:-0400
RDATE:20200308T020000
RDATE:20210314T020000
END:DAYLIGHT
END:VTIMEZONE
BEGIN:VEVENT
UID:638e04c8-5300-482f-89c1-5aabee2fff0b
DTSTAMP:20260423T120643Z
DESCRIPTION:Please see Rec Connect Calendars for description. Thank you.
DTSTART;TZID=America/New_York:20191201T070000
DTEND;TZID=America/New_York:20191201T223000
LOCATION:NYC
SUMMARY:NYC & The Rockettes
END:VEVENT
END:VCALENDAR
