BEGIN:VCALENDAR
VERSION:2.0
PRODID:-//www.arcnbc.org//NONSGML kigkonsult.se iCalcreator 2.30.10//
CALSCALE:GREGORIAN
METHOD:PUBLISH
UID:a58d5dc9-7f44-470d-9767-e2758c670e7a
X-WR-CALDESC:
X-WR-RELCALID:772edecce158b6cc82813474debe6a02
X-WR-TIMEZONE:America/New_York
BEGIN:VTIMEZONE
TZID:America/New_York
BEGIN:STANDARD
TZNAME:EST
DTSTART:20191103T020000
TZOFFSETFROM:-0400
TZOFFSETTO:-0500
RDATE:20201101T020000
END:STANDARD
BEGIN:DAYLIGHT
TZNAME:EDT
DTSTART:20190310T020000
TZOFFSETFROM:-0500
TZOFFSETTO:-0400
RDATE:20200308T020000
RDATE:20210314T020000
END:DAYLIGHT
END:VTIMEZONE
BEGIN:VEVENT
UID:2a321885-d91b-48aa-ba3a-fb41c29bb46c
DTSTAMP:20260423T120238Z
DESCRIPTION:
DTSTART;TZID=America/New_York:20191202T170000
DTEND;TZID=America/New_York:20191202T210000
LOCATION:Attleboro\, Ma
SUMMARY:La Salette and dinner
END:VEVENT
END:VCALENDAR
