BEGIN:VCALENDAR
VERSION:2.0
PRODID:-//www.arcnbc.org//NONSGML kigkonsult.se iCalcreator 2.30.10//
CALSCALE:GREGORIAN
METHOD:PUBLISH
UID:47153b59-7b27-42ec-82f1-a282fdbec0f3
X-WR-CALDESC:Drop off and pick are required for this event.
X-WR-RELCALID:8b7317948d2c90ae0969c4e3590847e1
X-WR-TIMEZONE:America/New_York
BEGIN:VTIMEZONE
TZID:America/New_York
BEGIN:STANDARD
TZNAME:EST
DTSTART:20191103T020000
TZOFFSETFROM:-0400
TZOFFSETTO:-0500
RDATE:20201101T020000
END:STANDARD
BEGIN:DAYLIGHT
TZNAME:EDT
DTSTART:20190310T020000
TZOFFSETFROM:-0500
TZOFFSETTO:-0400
RDATE:20200308T020000
RDATE:20210314T020000
END:DAYLIGHT
END:VTIMEZONE
BEGIN:VEVENT
UID:4eade283-4d52-440c-889b-066a22793580
DTSTAMP:20260423T120643Z
DESCRIPTION:Drop off and pick are required for this event.
DTSTART;TZID=America/New_York:20191206T180000
DTEND;TZID=America/New_York:20191206T210000
LOCATION:The Elk's Attleboro\, Ma
SUMMARY:The Arc Holiday Party
END:VEVENT
END:VCALENDAR
