BEGIN:VCALENDAR
VERSION:2.0
PRODID:-//www.arcnbc.org//NONSGML kigkonsult.se iCalcreator 2.30.10//
CALSCALE:GREGORIAN
METHOD:PUBLISH
UID:9a07770e-17bd-49ba-95fc-c671e8c421ce
X-WR-CALDESC:Please see Rec Connect Calendars for description\, thank you.
X-WR-RELCALID:518c4df6067ee3b85314af13a4fe373b
X-WR-TIMEZONE:America/New_York
BEGIN:VTIMEZONE
TZID:America/New_York
BEGIN:STANDARD
TZNAME:EST
DTSTART:20191103T020000
TZOFFSETFROM:-0400
TZOFFSETTO:-0500
RDATE:20201101T020000
END:STANDARD
BEGIN:DAYLIGHT
TZNAME:EDT
DTSTART:20190310T020000
TZOFFSETFROM:-0500
TZOFFSETTO:-0400
RDATE:20200308T020000
RDATE:20210314T020000
END:DAYLIGHT
END:VTIMEZONE
BEGIN:VEVENT
UID:282395b6-a9d2-43a2-97be-2e4a690e835c
DTSTAMP:20260423T120253Z
DESCRIPTION:Please see Rec Connect Calendars for description\, thank you.
DTSTART;TZID=America/New_York:20191209T163000
DTEND;TZID=America/New_York:20191209T213000
LOCATION:Providence\, RI
SUMMARY:Dinner and Free Play Arcade
END:VEVENT
END:VCALENDAR
