BEGIN:VCALENDAR
VERSION:2.0
PRODID:-//www.arcnbc.org//NONSGML kigkonsult.se iCalcreator 2.30.10//
CALSCALE:GREGORIAN
METHOD:PUBLISH
UID:136c88aa-45d4-4751-a6d1-99868138c782
X-WR-CALDESC:
X-WR-RELCALID:247fd3dd057763ff6e3ccf75fff0a3ff
X-WR-TIMEZONE:America/New_York
BEGIN:VTIMEZONE
TZID:America/New_York
BEGIN:STANDARD
TZNAME:EST
DTSTART:20191103T020000
TZOFFSETFROM:-0400
TZOFFSETTO:-0500
RDATE:20201101T020000
END:STANDARD
BEGIN:DAYLIGHT
TZNAME:EDT
DTSTART:20190310T020000
TZOFFSETFROM:-0500
TZOFFSETTO:-0400
RDATE:20200308T020000
RDATE:20210314T020000
END:DAYLIGHT
END:VTIMEZONE
BEGIN:VEVENT
UID:bece42fb-6d09-4b0f-a7ac-6e222b0ff403
DTSTAMP:20260423T120538Z
DESCRIPTION:
DTSTART;TZID=America/New_York:20191209T090000
DTEND;TZID=America/New_York:20191209T150000
LOCATION:16 Hillside Avenue\, Attleboro\, MA
SUMMARY:Safety Care Day One
END:VEVENT
END:VCALENDAR
