BEGIN:VCALENDAR
VERSION:2.0
PRODID:-//www.arcnbc.org//NONSGML kigkonsult.se iCalcreator 2.30.10//
CALSCALE:GREGORIAN
METHOD:PUBLISH
UID:26d88f4a-ac5f-454b-ac96-cadd37a125f7
X-WR-CALDESC:Please see Rec Connect calendar for description\, thank you.
X-WR-RELCALID:17134bff9547c0f5e009b782daf19f80
X-WR-TIMEZONE:America/New_York
BEGIN:VTIMEZONE
TZID:America/New_York
BEGIN:STANDARD
TZNAME:EST
DTSTART:20191103T020000
TZOFFSETFROM:-0400
TZOFFSETTO:-0500
RDATE:20201101T020000
END:STANDARD
BEGIN:DAYLIGHT
TZNAME:EDT
DTSTART:20190310T020000
TZOFFSETFROM:-0500
TZOFFSETTO:-0400
RDATE:20200308T020000
RDATE:20210314T020000
END:DAYLIGHT
END:VTIMEZONE
BEGIN:VEVENT
UID:1b76472a-ff57-4c2e-aa8f-28a0140fffe7
DTSTAMP:20260423T120955Z
DESCRIPTION:Please see Rec Connect calendar for description\, thank you.
DTSTART;TZID=America/New_York:20191214T113000
DTEND;TZID=America/New_York:20191214T183000
LOCATION:Zeiterion Theater New Bedford\, Ma
SUMMARY:New Bedford Symphony Orchestra & Lunch
END:VEVENT
END:VCALENDAR
