BEGIN:VCALENDAR
VERSION:2.0
PRODID:-//www.arcnbc.org//NONSGML kigkonsult.se iCalcreator 2.30.10//
CALSCALE:GREGORIAN
METHOD:PUBLISH
UID:ba05c43b-bf4a-48bb-9a7b-5f774924c78b
X-WR-CALDESC:
X-WR-RELCALID:16193cc108422dd3e3ad62adcd356551
X-WR-TIMEZONE:America/New_York
BEGIN:VTIMEZONE
TZID:America/New_York
BEGIN:STANDARD
TZNAME:EST
DTSTART:20191103T020000
TZOFFSETFROM:-0400
TZOFFSETTO:-0500
RDATE:20201101T020000
END:STANDARD
BEGIN:DAYLIGHT
TZNAME:EDT
DTSTART:20190310T020000
TZOFFSETFROM:-0500
TZOFFSETTO:-0400
RDATE:20200308T020000
RDATE:20210314T020000
END:DAYLIGHT
END:VTIMEZONE
BEGIN:VEVENT
UID:854f1eda-ed30-4f8b-a2dc-ced1cbbd3430
DTSTAMP:20260423T121049Z
DESCRIPTION:
DTSTART;TZID=America/New_York:20191215T133000
DTEND;TZID=America/New_York:20191215T193000
LOCATION:The Dunkin Donuts Center
SUMMARY:Providence Bruins Hockey & Lunch
END:VEVENT
END:VCALENDAR
