BEGIN:VCALENDAR
VERSION:2.0
PRODID:-//www.arcnbc.org//NONSGML kigkonsult.se iCalcreator 2.30.10//
CALSCALE:GREGORIAN
METHOD:PUBLISH
UID:d715fa59-c98a-4f2a-881c-24b4762f4746
X-WR-CALDESC:
X-WR-RELCALID:508bd89616a6b6e357ac533118a11aa4
X-WR-TIMEZONE:America/New_York
BEGIN:VTIMEZONE
TZID:America/New_York
BEGIN:STANDARD
TZNAME:EST
DTSTART:20191103T020000
TZOFFSETFROM:-0400
TZOFFSETTO:-0500
RDATE:20201101T020000
END:STANDARD
BEGIN:DAYLIGHT
TZNAME:EDT
DTSTART:20190310T020000
TZOFFSETFROM:-0500
TZOFFSETTO:-0400
RDATE:20200308T020000
RDATE:20210314T020000
END:DAYLIGHT
END:VTIMEZONE
BEGIN:VEVENT
UID:b3edd291-f9a5-44d6-9c85-eb0aef808d8a
DTSTAMP:20260423T115920Z
DESCRIPTION:
DTSTART;TZID=America/New_York:20191217T090000
DTEND;TZID=America/New_York:20191217T160000
LOCATION:16 Hillside Avenue\, Attleboro\, MA
SUMMARY:Orientation
END:VEVENT
END:VCALENDAR
