BEGIN:VCALENDAR
VERSION:2.0
PRODID:-//www.arcnbc.org//NONSGML kigkonsult.se iCalcreator 2.30.10//
CALSCALE:GREGORIAN
METHOD:PUBLISH
UID:cbd21f1f-3675-4817-9d86-30ddf8a13bc5
X-WR-CALDESC:
X-WR-RELCALID:dcf8dd2b8fdaf707812b7cba8dda9491
X-WR-TIMEZONE:America/New_York
BEGIN:VTIMEZONE
TZID:America/New_York
BEGIN:STANDARD
TZNAME:EST
DTSTART:20191103T020000
TZOFFSETFROM:-0400
TZOFFSETTO:-0500
RDATE:20201101T020000
END:STANDARD
BEGIN:DAYLIGHT
TZNAME:EDT
DTSTART:20190310T020000
TZOFFSETFROM:-0500
TZOFFSETTO:-0400
RDATE:20200308T020000
RDATE:20210314T020000
END:DAYLIGHT
END:VTIMEZONE
BEGIN:VEVENT
UID:d9bc3290-cdf6-463e-9e9f-9574cc2c8a82
DTSTAMP:20260423T120036Z
DESCRIPTION:
DTSTART;TZID=America/New_York:20191218T090000
DTEND;TZID=America/New_York:20191218T150000
LOCATION:16 Hillside Avenue\, Attleboro\, MA
SUMMARY:First Aid/CPR
END:VEVENT
END:VCALENDAR
