BEGIN:VCALENDAR
VERSION:2.0
PRODID:-//www.arcnbc.org//NONSGML kigkonsult.se iCalcreator 2.30.10//
CALSCALE:GREGORIAN
METHOD:PUBLISH
UID:aef64a78-60f7-49cd-ad20-e6ffeb15d1f0
X-WR-CALDESC:
X-WR-RELCALID:0b9f662c9d9e7a096c2f47c783b29dc5
X-WR-TIMEZONE:America/New_York
BEGIN:VTIMEZONE
TZID:America/New_York
BEGIN:STANDARD
TZNAME:EST
DTSTART:20191103T020000
TZOFFSETFROM:-0400
TZOFFSETTO:-0500
RDATE:20201101T020000
END:STANDARD
BEGIN:DAYLIGHT
TZNAME:EDT
DTSTART:20190310T020000
TZOFFSETFROM:-0500
TZOFFSETTO:-0400
RDATE:20200308T020000
RDATE:20210314T020000
END:DAYLIGHT
END:VTIMEZONE
BEGIN:VEVENT
UID:d4578b58-30d9-433b-8351-f039b1537f2c
DTSTAMP:20260423T120253Z
DESCRIPTION:
DTSTART;TZID=America/New_York:20191219T150000
DTEND;TZID=America/New_York:20191219T173000
LOCATION:141 Park St. Attleboro\, Ma
SUMMARY:Self Advocacy
END:VEVENT
END:VCALENDAR
