BEGIN:VCALENDAR
VERSION:2.0
PRODID:-//www.arcnbc.org//NONSGML kigkonsult.se iCalcreator 2.30.10//
CALSCALE:GREGORIAN
METHOD:PUBLISH
UID:690f3a43-539c-4535-9393-5053b4f0ce21
X-WR-CALDESC:This is an event for Rec Connect and Arc members.  It starts w
 ith an hour of swimming\, then dinner at 8:00 pm\, followed by another act
 ivity.  The second activity is either physical or Art based.  Transportati
 on is required to and from the YMCA.
X-WR-RELCALID:2d7b0cd937a191453ce9f8cb83b608fe
X-WR-TIMEZONE:America/New_York
BEGIN:VTIMEZONE
TZID:America/New_York
BEGIN:STANDARD
TZNAME:EST
DTSTART:20191103T020000
TZOFFSETFROM:-0400
TZOFFSETTO:-0500
RDATE:20201101T020000
END:STANDARD
BEGIN:DAYLIGHT
TZNAME:EDT
DTSTART:20190310T020000
TZOFFSETFROM:-0500
TZOFFSETTO:-0400
RDATE:20200308T020000
RDATE:20210314T020000
END:DAYLIGHT
END:VTIMEZONE
BEGIN:VEVENT
UID:c0afd356-5c1f-431c-92b1-67a8a14a9285
DTSTAMP:20260423T120644Z
DESCRIPTION:This is an event for Rec Connect and Arc members.  It starts wi
 th an hour of swimming\, then dinner at 8:00 pm\, followed by another acti
 vity.  The second activity is either physical or Art based.  Transportatio
 n is required to and from the YMCA.
DTSTART;TZID=America/New_York:20191220T190000
DTEND;TZID=America/New_York:20191220T210000
LOCATION:Pleasant St. YMCA
SUMMARY:Go Night
END:VEVENT
END:VCALENDAR
