BEGIN:VCALENDAR
VERSION:2.0
PRODID:-//www.arcnbc.org//NONSGML kigkonsult.se iCalcreator 2.30.10//
CALSCALE:GREGORIAN
METHOD:PUBLISH
UID:4feae1c4-1ab0-4865-bd23-8683355875a5
X-WR-CALDESC:A night of dancing with friends.
X-WR-RELCALID:5f3bb05728be15618f40c6cddb41e331
X-WR-TIMEZONE:America/New_York
BEGIN:VTIMEZONE
TZID:America/New_York
BEGIN:STANDARD
TZNAME:EST
DTSTART:20191103T020000
TZOFFSETFROM:-0400
TZOFFSETTO:-0500
RDATE:20201101T020000
END:STANDARD
BEGIN:DAYLIGHT
TZNAME:EDT
DTSTART:20190310T020000
TZOFFSETFROM:-0500
TZOFFSETTO:-0400
RDATE:20200308T020000
RDATE:20210314T020000
END:DAYLIGHT
END:VTIMEZONE
BEGIN:VEVENT
UID:a59c5e43-92cd-4a5e-b683-16d114051dbe
DTSTAMP:20260423T120928Z
DESCRIPTION:A night of dancing with friends.
DTSTART;TZID=America/New_York:20191226T190000
DTEND;TZID=America/New_York:20191226T210000
LOCATION:Taunton Portuguese/American club
SUMMARY:Fran's Dance
END:VEVENT
END:VCALENDAR
