BEGIN:VCALENDAR
VERSION:2.0
PRODID:-//www.arcnbc.org//NONSGML kigkonsult.se iCalcreator 2.30.10//
CALSCALE:GREGORIAN
METHOD:PUBLISH
UID:53b91406-3b6f-40a3-8569-24589074efbd
X-WR-CALDESC:
X-WR-RELCALID:6054e5d7580c3579ddc81a8c400ac437
X-WR-TIMEZONE:America/New_York
BEGIN:VTIMEZONE
TZID:America/New_York
BEGIN:STANDARD
TZNAME:EST
DTSTART:20191103T020000
TZOFFSETFROM:-0400
TZOFFSETTO:-0500
RDATE:20201101T020000
END:STANDARD
BEGIN:DAYLIGHT
TZNAME:EDT
DTSTART:20190310T020000
TZOFFSETFROM:-0500
TZOFFSETTO:-0400
RDATE:20200308T020000
RDATE:20210314T020000
END:DAYLIGHT
END:VTIMEZONE
BEGIN:VEVENT
UID:d1f3570c-6fee-4232-967f-e3a1632670ae
DTSTAMP:20260423T121047Z
DESCRIPTION:
DTSTART;TZID=America/New_York:20191227T180000
DTEND;TZID=America/New_York:20191227T220000
LOCATION:The Stadium Theater Woonsocket\, RI
SUMMARY:The Three Stooges Movies
END:VEVENT
END:VCALENDAR
