BEGIN:VCALENDAR
VERSION:2.0
PRODID:-//www.arcnbc.org//NONSGML kigkonsult.se iCalcreator 2.30.10//
CALSCALE:GREGORIAN
METHOD:PUBLISH
UID:5574d97e-13e7-4baf-b482-f9f4fc5de3af
X-WR-CALDESC:Play games\, bowl and sing songs in the karaoke rooms.
X-WR-RELCALID:2587b0b95bebb15d54c9000aaefc83c0
X-WR-TIMEZONE:America/New_York
BEGIN:VTIMEZONE
TZID:America/New_York
BEGIN:STANDARD
TZNAME:EST
DTSTART:20191103T020000
TZOFFSETFROM:-0400
TZOFFSETTO:-0500
RDATE:20201101T020000
END:STANDARD
BEGIN:DAYLIGHT
TZNAME:EDT
DTSTART:20190310T020000
TZOFFSETFROM:-0500
TZOFFSETTO:-0400
RDATE:20200308T020000
RDATE:20210314T020000
END:DAYLIGHT
END:VTIMEZONE
BEGIN:VEVENT
UID:23948b0a-26bc-4bb7-8d7d-277df9a068e7
DTSTAMP:20260423T101828Z
DESCRIPTION:Play games\, bowl and sing songs in the karaoke rooms.
DTSTART;TZID=America/New_York:20200106T170000
DTEND;TZID=America/New_York:20200106T210000
LOCATION:Silver City Galleria Taunton\, Ma
SUMMARY:Round 1 and Dinner
END:VEVENT
END:VCALENDAR
