BEGIN:VCALENDAR
VERSION:2.0
PRODID:-//www.arcnbc.org//NONSGML kigkonsult.se iCalcreator 2.30.10//
CALSCALE:GREGORIAN
METHOD:PUBLISH
UID:488bb42d-eaea-4399-ba83-e9e2e9d09ab8
X-WR-CALDESC:All Rec Connect members are welcome to join us on Tuesday nigh
 ts for bowling.  The cost is $6.10 per person for 2 games.  Bowling starts
  promptly at 6:00 pm.
X-WR-RELCALID:79afe8c1a573b0823ae628eadc7a6cd7
X-WR-TIMEZONE:America/New_York
BEGIN:VTIMEZONE
TZID:America/New_York
BEGIN:STANDARD
TZNAME:EST
DTSTART:20191103T020000
TZOFFSETFROM:-0400
TZOFFSETTO:-0500
RDATE:20201101T020000
END:STANDARD
BEGIN:DAYLIGHT
TZNAME:EDT
DTSTART:20190310T020000
TZOFFSETFROM:-0500
TZOFFSETTO:-0400
RDATE:20200308T020000
RDATE:20210314T020000
END:DAYLIGHT
END:VTIMEZONE
BEGIN:VEVENT
UID:d4cd1214-a9db-426b-babf-70c8f9d033a2
DTSTAMP:20260423T102024Z
DESCRIPTION:All Rec Connect members are welcome to join us on Tuesday night
 s for bowling.  The cost is $6.10 per person for 2 games.  Bowling starts 
 promptly at 6:00 pm.
DTSTART;TZID=America/New_York:20200107T180000
DTEND;TZID=America/New_York:20200107T200000
LOCATION:East Providence Lanes
SUMMARY:Bowling
END:VEVENT
END:VCALENDAR
