BEGIN:VCALENDAR
VERSION:2.0
PRODID:-//www.arcnbc.org//NONSGML kigkonsult.se iCalcreator 2.30.10//
CALSCALE:GREGORIAN
METHOD:PUBLISH
UID:5ee5c483-12aa-4b04-ada6-4fef4c52a465
X-WR-CALDESC:A chance to get together with friends to discuss advocacy.  We
  share stories\, challenges\, and give advice.  We then have dinner togeth
 er. This is a no cost event.
X-WR-RELCALID:ac219b61fcde7c15913982ccec64b5a6
X-WR-TIMEZONE:America/New_York
BEGIN:VTIMEZONE
TZID:America/New_York
BEGIN:STANDARD
TZNAME:EST
DTSTART:20191103T020000
TZOFFSETFROM:-0400
TZOFFSETTO:-0500
RDATE:20201101T020000
END:STANDARD
BEGIN:DAYLIGHT
TZNAME:EDT
DTSTART:20190310T020000
TZOFFSETFROM:-0500
TZOFFSETTO:-0400
RDATE:20200308T020000
RDATE:20210314T020000
END:DAYLIGHT
END:VTIMEZONE
BEGIN:VEVENT
UID:eb3ca2b5-9bec-4de4-b17a-eec326dc3a00
DTSTAMP:20260423T101946Z
DESCRIPTION:A chance to get together with friends to discuss advocacy.  We 
 share stories\, challenges\, and give advice.  We then have dinner togethe
 r. This is a no cost event.
DTSTART;TZID=America/New_York:20200109T150000
DTEND;TZID=America/New_York:20200109T173000
LOCATION:The Arc 141 Park St. Attleboro\, Ma
SUMMARY:Self Advocacy
END:VEVENT
END:VCALENDAR
