BEGIN:VCALENDAR
VERSION:2.0
PRODID:-//www.arcnbc.org//NONSGML kigkonsult.se iCalcreator 2.30.10//
CALSCALE:GREGORIAN
METHOD:PUBLISH
UID:2dd7a839-7d2d-4cf8-b3f4-fe67ac9c4f2e
X-WR-CALDESC:
X-WR-RELCALID:95e8f9a661b887bb4e2eb1e1c9abb82f
X-WR-TIMEZONE:America/New_York
BEGIN:VTIMEZONE
TZID:America/New_York
BEGIN:STANDARD
TZNAME:EST
DTSTART:20191103T020000
TZOFFSETFROM:-0400
TZOFFSETTO:-0500
RDATE:20201101T020000
END:STANDARD
BEGIN:DAYLIGHT
TZNAME:EDT
DTSTART:20190310T020000
TZOFFSETFROM:-0500
TZOFFSETTO:-0400
RDATE:20200308T020000
RDATE:20210314T020000
END:DAYLIGHT
END:VTIMEZONE
BEGIN:VEVENT
UID:5754a4c1-39a8-47bd-b03e-4bf90f895f8e
DTSTAMP:20260423T102327Z
DESCRIPTION:
DTSTART;TZID=America/New_York:20200112T140000
DTEND;TZID=America/New_York:20200112T190000
LOCATION:The Dunkin Donut Center Providence RI
SUMMARY:Providence Bruins Hockey & Lunch
END:VEVENT
END:VCALENDAR
