BEGIN:VCALENDAR
VERSION:2.0
PRODID:-//www.arcnbc.org//NONSGML kigkonsult.se iCalcreator 2.30.10//
CALSCALE:GREGORIAN
METHOD:PUBLISH
UID:40c23f90-d011-4998-bf01-d97bf912a6f6
X-WR-CALDESC:
X-WR-RELCALID:99f889a7a7ec243d9f7221d4e38bb50f
X-WR-TIMEZONE:America/New_York
BEGIN:VTIMEZONE
TZID:America/New_York
BEGIN:STANDARD
TZNAME:EST
DTSTART:20191103T020000
TZOFFSETFROM:-0400
TZOFFSETTO:-0500
RDATE:20201101T020000
END:STANDARD
BEGIN:DAYLIGHT
TZNAME:EDT
DTSTART:20190310T020000
TZOFFSETFROM:-0500
TZOFFSETTO:-0400
RDATE:20200308T020000
RDATE:20210314T020000
END:DAYLIGHT
END:VTIMEZONE
BEGIN:VEVENT
UID:1a9aa4ee-47ac-4cc3-9d21-2262e01f52bc
DTSTAMP:20260423T101829Z
DESCRIPTION:
DTSTART;TZID=America/New_York:20200115T170000
DTEND;TZID=America/New_York:20200115T220000
LOCATION:Base Station Johnston\, RI
SUMMARY:Virtual Reality and Dinner
END:VEVENT
END:VCALENDAR
