BEGIN:VCALENDAR
VERSION:2.0
PRODID:-//www.arcnbc.org//NONSGML kigkonsult.se iCalcreator 2.30.10//
CALSCALE:GREGORIAN
METHOD:PUBLISH
UID:194d74dc-44a9-4e26-b1cd-3830d95854bc
X-WR-CALDESC:
X-WR-RELCALID:79e1cd969d64d82385eb9b1e5c740698
X-WR-TIMEZONE:America/New_York
BEGIN:VTIMEZONE
TZID:America/New_York
BEGIN:STANDARD
TZNAME:EST
DTSTART:20191103T020000
TZOFFSETFROM:-0400
TZOFFSETTO:-0500
RDATE:20201101T020000
END:STANDARD
BEGIN:DAYLIGHT
TZNAME:EDT
DTSTART:20190310T020000
TZOFFSETFROM:-0500
TZOFFSETTO:-0400
RDATE:20200308T020000
RDATE:20210314T020000
END:DAYLIGHT
END:VTIMEZONE
BEGIN:VEVENT
UID:8977637d-0778-4de6-abdc-60d75e201d7f
DTSTAMP:20260423T102359Z
DESCRIPTION:
DTSTART;TZID=America/New_York:20200118T113000
DTEND;TZID=America/New_York:20200118T153000
LOCATION:Wheaton College Norton\, Ma
SUMMARY:College Basketball and Lunch
END:VEVENT
END:VCALENDAR
