BEGIN:VCALENDAR
VERSION:2.0
PRODID:-//www.arcnbc.org//NONSGML kigkonsult.se iCalcreator 2.30.10//
CALSCALE:GREGORIAN
METHOD:PUBLISH
UID:c7b6342f-c607-4fec-8864-0b2b4f01f845
X-WR-CALDESC:
X-WR-RELCALID:84e3a2ccd71dc8ca369050ac7efbce50
X-WR-TIMEZONE:America/New_York
BEGIN:VTIMEZONE
TZID:America/New_York
BEGIN:STANDARD
TZNAME:EST
DTSTART:20191103T020000
TZOFFSETFROM:-0400
TZOFFSETTO:-0500
RDATE:20201101T020000
END:STANDARD
BEGIN:DAYLIGHT
TZNAME:EDT
DTSTART:20190310T020000
TZOFFSETFROM:-0500
TZOFFSETTO:-0400
RDATE:20200308T020000
RDATE:20210314T020000
END:DAYLIGHT
END:VTIMEZONE
BEGIN:VEVENT
UID:f235c001-0020-4e6c-99f2-bae6a3e345cc
DTSTAMP:20260423T101827Z
DESCRIPTION:
DTSTART;TZID=America/New_York:20200123T160000
DTEND;TZID=America/New_York:20200123T210000
LOCATION:East Greenwich\, RI
SUMMARY:Dinner and Riddle Room
END:VEVENT
END:VCALENDAR
