BEGIN:VCALENDAR
VERSION:2.0
PRODID:-//www.arcnbc.org//NONSGML kigkonsult.se iCalcreator 2.30.10//
CALSCALE:GREGORIAN
METHOD:PUBLISH
UID:87584258-deee-47b3-9120-2850271c76ca
X-WR-CALDESC:
X-WR-RELCALID:a3c62833bd6af06adc1f10edc1a18a70
X-WR-TIMEZONE:America/New_York
BEGIN:VTIMEZONE
TZID:America/New_York
BEGIN:STANDARD
TZNAME:EST
DTSTART:20191103T020000
TZOFFSETFROM:-0400
TZOFFSETTO:-0500
RDATE:20201101T020000
END:STANDARD
BEGIN:DAYLIGHT
TZNAME:EDT
DTSTART:20190310T020000
TZOFFSETFROM:-0500
TZOFFSETTO:-0400
RDATE:20200308T020000
RDATE:20210314T020000
END:DAYLIGHT
END:VTIMEZONE
BEGIN:VEVENT
UID:1652192f-d1ea-405c-b7c3-26d69c25e100
DTSTAMP:20260423T101817Z
DESCRIPTION:
DTSTART;TZID=America/New_York:20200125T120000
DTEND;TZID=America/New_York:20200125T180000
LOCATION:Yawgoo Valley Exeter\, RI
SUMMARY:Lunch and Tubing
END:VEVENT
END:VCALENDAR
