BEGIN:VCALENDAR
VERSION:2.0
PRODID:-//www.arcnbc.org//NONSGML kigkonsult.se iCalcreator 2.30.10//
CALSCALE:GREGORIAN
METHOD:PUBLISH
UID:6f56ab49-f74c-4690-9808-d621d46e7855
X-WR-CALDESC:
X-WR-RELCALID:b0cf72a71f7b1daec10d8cdfbdf237ed
X-WR-TIMEZONE:America/New_York
BEGIN:VTIMEZONE
TZID:America/New_York
BEGIN:STANDARD
TZNAME:EST
DTSTART:20191103T020000
TZOFFSETFROM:-0400
TZOFFSETTO:-0500
RDATE:20201101T020000
END:STANDARD
BEGIN:DAYLIGHT
TZNAME:EDT
DTSTART:20190310T020000
TZOFFSETFROM:-0500
TZOFFSETTO:-0400
RDATE:20200308T020000
RDATE:20210314T020000
END:DAYLIGHT
END:VTIMEZONE
BEGIN:VEVENT
UID:4acbc1f9-e4de-4993-a1e3-7d1efafaa96f
DTSTAMP:20260423T101950Z
DESCRIPTION:
DTSTART;TZID=America/New_York:20200127T160000
DTEND;TZID=America/New_York:20200127T213000
LOCATION:Dave & Buster's Braintree\, Ma
SUMMARY:Dave & Buster's and Dinner
END:VEVENT
END:VCALENDAR
