BEGIN:VCALENDAR
VERSION:2.0
PRODID:-//www.arcnbc.org//NONSGML kigkonsult.se iCalcreator 2.30.10//
CALSCALE:GREGORIAN
METHOD:PUBLISH
UID:74297367-2e0e-46ff-92b3-3508071157a6
X-WR-CALDESC:A night of dancing with friends.
X-WR-RELCALID:b10cd07b32d61dd0102e44c7e797a851
X-WR-TIMEZONE:America/New_York
BEGIN:VTIMEZONE
TZID:America/New_York
BEGIN:STANDARD
TZNAME:EST
DTSTART:20191103T020000
TZOFFSETFROM:-0400
TZOFFSETTO:-0500
RDATE:20201101T020000
END:STANDARD
BEGIN:DAYLIGHT
TZNAME:EDT
DTSTART:20190310T020000
TZOFFSETFROM:-0500
TZOFFSETTO:-0400
RDATE:20200308T020000
RDATE:20210314T020000
END:DAYLIGHT
END:VTIMEZONE
BEGIN:VEVENT
UID:04b1aae6-e2c1-404a-bf62-3383fb609722
DTSTAMP:20260423T102029Z
DESCRIPTION:A night of dancing with friends.
DTSTART;TZID=America/New_York:20200130T180000
DTEND;TZID=America/New_York:20200130T210000
LOCATION:Taunton Portuguese/American club
SUMMARY:Fran's Dance
END:VEVENT
END:VCALENDAR
