BEGIN:VCALENDAR
VERSION:2.0
PRODID:-//www.arcnbc.org//NONSGML kigkonsult.se iCalcreator 2.30.10//
CALSCALE:GREGORIAN
METHOD:PUBLISH
UID:8facea0a-67f2-4e51-8db4-53517a256a01
X-WR-CALDESC:
X-WR-RELCALID:a5603c76c12ac0d7ef6c4cad40e168c6
X-WR-TIMEZONE:America/New_York
BEGIN:VTIMEZONE
TZID:America/New_York
BEGIN:STANDARD
TZNAME:EST
DTSTART:20191103T020000
TZOFFSETFROM:-0400
TZOFFSETTO:-0500
RDATE:20201101T020000
END:STANDARD
BEGIN:DAYLIGHT
TZNAME:EDT
DTSTART:20190310T020000
TZOFFSETFROM:-0500
TZOFFSETTO:-0400
RDATE:20200308T020000
RDATE:20210314T020000
END:DAYLIGHT
END:VTIMEZONE
BEGIN:VEVENT
UID:98cd7709-b2fe-420c-85b6-67c2bb32bf69
DTSTAMP:20260423T101949Z
DESCRIPTION:
DTSTART;TZID=America/New_York:20200205T160000
DTEND;TZID=America/New_York:20200205T220000
LOCATION:Dunkin' Donut Center
SUMMARY:PC Friars and dinner
END:VEVENT
END:VCALENDAR
