BEGIN:VCALENDAR
VERSION:2.0
PRODID:-//www.arcnbc.org//NONSGML kigkonsult.se iCalcreator 2.30.10//
CALSCALE:GREGORIAN
METHOD:PUBLISH
UID:5d30d29c-1229-4f08-96eb-e1c18655984e
X-WR-CALDESC:
X-WR-RELCALID:b24bca3d668aa4701fa7352f996a9dba
X-WR-TIMEZONE:America/New_York
BEGIN:VTIMEZONE
TZID:America/New_York
BEGIN:STANDARD
TZNAME:EST
DTSTART:20191103T020000
TZOFFSETFROM:-0400
TZOFFSETTO:-0500
RDATE:20201101T020000
END:STANDARD
BEGIN:DAYLIGHT
TZNAME:EDT
DTSTART:20190310T020000
TZOFFSETFROM:-0500
TZOFFSETTO:-0400
RDATE:20200308T020000
RDATE:20210314T020000
END:DAYLIGHT
END:VTIMEZONE
BEGIN:VEVENT
UID:fc48ad9f-b20e-494c-ae75-f12054952448
DTSTAMP:20260423T101821Z
DESCRIPTION:
DTSTART;TZID=America/New_York:20200206T150000
DTEND;TZID=America/New_York:20200206T173000
LOCATION:The Arc 141 Park St. Attleboro
SUMMARY:Self Advocacy
END:VEVENT
END:VCALENDAR
