BEGIN:VCALENDAR
VERSION:2.0
PRODID:-//www.arcnbc.org//NONSGML kigkonsult.se iCalcreator 2.30.10//
CALSCALE:GREGORIAN
METHOD:PUBLISH
UID:8a133820-899c-417d-8446-96e0853d9739
X-WR-CALDESC:
X-WR-RELCALID:b266b3a29a1ae05e25e332fd6bd3deb5
X-WR-TIMEZONE:America/New_York
BEGIN:VTIMEZONE
TZID:America/New_York
BEGIN:STANDARD
TZNAME:EST
DTSTART:20191103T020000
TZOFFSETFROM:-0400
TZOFFSETTO:-0500
RDATE:20201101T020000
END:STANDARD
BEGIN:DAYLIGHT
TZNAME:EDT
DTSTART:20190310T020000
TZOFFSETFROM:-0500
TZOFFSETTO:-0400
RDATE:20200308T020000
RDATE:20210314T020000
END:DAYLIGHT
END:VTIMEZONE
BEGIN:VEVENT
UID:f7e81575-c31d-47da-bd30-04b9ec4e846c
DTSTAMP:20260423T101945Z
DESCRIPTION:
DTSTART;TZID=America/New_York:20200207T170000
DTEND;TZID=America/New_York:20200207T223000
LOCATION:The Stadium Theater Woonsocket\, RI
SUMMARY:Rock of Ages
END:VEVENT
END:VCALENDAR
