BEGIN:VCALENDAR
VERSION:2.0
PRODID:-//www.arcnbc.org//NONSGML kigkonsult.se iCalcreator 2.30.10//
CALSCALE:GREGORIAN
METHOD:PUBLISH
UID:9db99edf-b994-49ff-a171-bb42808629d7
X-WR-CALDESC:This is one of our annual fundraisers. It supports our Taunton
  Area Resource Center (TARC) located at 437 Bay Street.  In addition to he
 lping towards our Rec -Connect program. A social inclusion program that ho
 sts more than 60 community trips every year.  Please come out for a great 
 breakfast\, lots of great raffle prizes\, some fun and a chance to help ra
 ise money for a great cause.  \n\n
X-WR-RELCALID:7530962a17f452d0f6eab561b562ec0c
X-WR-TIMEZONE:America/New_York
BEGIN:VTIMEZONE
TZID:America/New_York
BEGIN:STANDARD
TZNAME:EST
DTSTART:20191103T020000
TZOFFSETFROM:-0400
TZOFFSETTO:-0500
RDATE:20201101T020000
END:STANDARD
BEGIN:DAYLIGHT
TZNAME:EDT
DTSTART:20190310T020000
TZOFFSETFROM:-0500
TZOFFSETTO:-0400
RDATE:20200308T020000
RDATE:20210314T020000
END:DAYLIGHT
END:VTIMEZONE
BEGIN:VEVENT
UID:ab7e255f-0016-444c-8341-6c8a441dee85
DTSTAMP:20260423T101949Z
DESCRIPTION:This is one of our annual fundraisers. It supports our Taunton 
 Area Resource Center (TARC) located at 437 Bay Street.  In addition to hel
 ping towards our Rec -Connect program. A social inclusion program that hos
 ts more than 60 community trips every year.  Please come out for a great b
 reakfast\, lots of great raffle prizes\, some fun and a chance to help rai
 se money for a great cause.  \n\n
DTSTART;TZID=America/New_York:20200208T080000
DTEND;TZID=America/New_York:20200208T110000
LOCATION:PACC 175 School St Taunton\, Ma
SUMMARY:Annual Pancake Breakfast Fundraiser
END:VEVENT
END:VCALENDAR
