BEGIN:VCALENDAR
VERSION:2.0
PRODID:-//www.arcnbc.org//NONSGML kigkonsult.se iCalcreator 2.30.10//
CALSCALE:GREGORIAN
METHOD:PUBLISH
UID:41e79e89-98ab-4656-bd42-94b3dd4a8fc9
X-WR-CALDESC:We will be providing drinks and light snacks.  A chance to get
  together with friends to have some fun and dance the night away.
X-WR-RELCALID:a2a40b23aa484c7c5296e76d1843fcfa
X-WR-TIMEZONE:America/New_York
BEGIN:VTIMEZONE
TZID:America/New_York
BEGIN:STANDARD
TZNAME:EST
DTSTART:20191103T020000
TZOFFSETFROM:-0400
TZOFFSETTO:-0500
RDATE:20201101T020000
END:STANDARD
BEGIN:DAYLIGHT
TZNAME:EDT
DTSTART:20190310T020000
TZOFFSETFROM:-0500
TZOFFSETTO:-0400
RDATE:20200308T020000
RDATE:20210314T020000
END:DAYLIGHT
END:VTIMEZONE
BEGIN:VEVENT
UID:3bd4c6db-49cc-448a-91a0-3a60abcdf4a7
DTSTAMP:20260423T102022Z
DESCRIPTION:We will be providing drinks and light snacks.  A chance to get 
 together with friends to have some fun and dance the night away.
DTSTART;TZID=America/New_York:20200210T180000
DTEND;TZID=America/New_York:20200210T200000
LOCATION:The Arc 141 Park St. Attleboro\, Ma
SUMMARY:Valentine's Day Party
END:VEVENT
END:VCALENDAR
