BEGIN:VCALENDAR
VERSION:2.0
PRODID:-//www.arcnbc.org//NONSGML kigkonsult.se iCalcreator 2.30.10//
CALSCALE:GREGORIAN
METHOD:PUBLISH
UID:47b0405b-fb21-45a3-9d88-bb8c34202d71
X-WR-CALDESC:
X-WR-RELCALID:bf6fd851a191bc0f68a0605c75b275a8
X-WR-TIMEZONE:America/New_York
BEGIN:VTIMEZONE
TZID:America/New_York
BEGIN:STANDARD
TZNAME:EST
DTSTART:20191103T020000
TZOFFSETFROM:-0400
TZOFFSETTO:-0500
RDATE:20201101T020000
END:STANDARD
BEGIN:DAYLIGHT
TZNAME:EDT
DTSTART:20190310T020000
TZOFFSETFROM:-0500
TZOFFSETTO:-0400
RDATE:20200308T020000
RDATE:20210314T020000
END:DAYLIGHT
END:VTIMEZONE
BEGIN:VEVENT
UID:653e567d-b225-416f-bede-3182704e6575
DTSTAMP:20260423T102423Z
DESCRIPTION:
DTSTART;TZID=America/New_York:20200212T160000
DTEND;TZID=America/New_York:20200212T210000
LOCATION:Wheaton College Norton\, Ma
SUMMARY:Wheaton College Men's Basketball
END:VEVENT
END:VCALENDAR
