BEGIN:VCALENDAR
VERSION:2.0
PRODID:-//www.arcnbc.org//NONSGML kigkonsult.se iCalcreator 2.30.10//
CALSCALE:GREGORIAN
METHOD:PUBLISH
UID:2765e209-8578-4cf4-9b44-2b29d35dd8b8
X-WR-CALDESC:
X-WR-RELCALID:c8b3b2f204d87ba8999001ad1ba208d7
X-WR-TIMEZONE:America/New_York
BEGIN:VTIMEZONE
TZID:America/New_York
BEGIN:STANDARD
TZNAME:EST
DTSTART:20191103T020000
TZOFFSETFROM:-0400
TZOFFSETTO:-0500
RDATE:20201101T020000
END:STANDARD
BEGIN:DAYLIGHT
TZNAME:EDT
DTSTART:20190310T020000
TZOFFSETFROM:-0500
TZOFFSETTO:-0400
RDATE:20200308T020000
RDATE:20210314T020000
END:DAYLIGHT
END:VTIMEZONE
BEGIN:VEVENT
UID:c54583fa-93f3-4a02-802a-659ca7bea0fd
DTSTAMP:20260423T101827Z
DESCRIPTION:
DTSTART;TZID=America/New_York:20200220T170000
DTEND;TZID=America/New_York:20200220T220000
LOCATION:The Zeiterion Theater New Bedford\, Ma
SUMMARY:Peking Acrobats & Dinner
END:VEVENT
END:VCALENDAR
