BEGIN:VCALENDAR
VERSION:2.0
PRODID:-//www.arcnbc.org//NONSGML kigkonsult.se iCalcreator 2.30.10//
CALSCALE:GREGORIAN
METHOD:PUBLISH
UID:5400fdce-0e01-4eab-84f1-fe3f2867e2e3
X-WR-CALDESC:Newport Winter Fest has many events.  We will be attending the
 ir Mac and cheese Smack down!  Everyone will get to taste macaroni and che
 ese from many local Newport restaurants.
X-WR-RELCALID:1f37b84d8933f32ca8dc84370178a7fb
X-WR-TIMEZONE:America/New_York
BEGIN:VTIMEZONE
TZID:America/New_York
BEGIN:STANDARD
TZNAME:EST
DTSTART:20191103T020000
TZOFFSETFROM:-0400
TZOFFSETTO:-0500
RDATE:20201101T020000
END:STANDARD
BEGIN:DAYLIGHT
TZNAME:EDT
DTSTART:20190310T020000
TZOFFSETFROM:-0500
TZOFFSETTO:-0400
RDATE:20200308T020000
RDATE:20210314T020000
END:DAYLIGHT
END:VTIMEZONE
BEGIN:VEVENT
UID:82e92846-9572-47fe-8bd8-70dbceb135bd
DTSTAMP:20260423T102421Z
DESCRIPTION:Newport Winter Fest has many events.  We will be attending thei
 r Mac and cheese Smack down!  Everyone will get to taste macaroni and chee
 se from many local Newport restaurants.
DTSTART;TZID=America/New_York:20200222T113000
DTEND;TZID=America/New_York:20200222T163000
LOCATION:Newport\, RI
SUMMARY:Newport Winter Fest mac & cheese smack down
END:VEVENT
END:VCALENDAR
